BEGIN:VCALENDAR
VERSION:2.0
CALSCALE:GREGORIAN
PRODID:-//Diputació de Barcelona//DibaCMS//EN
BEGIN:VEVENT
UID:4679
DTSTAMP:20260421T225923
DTSTART:20120113T000000
DTEND:20130113T000000
SUMMARY:El primer equip del CE La Llagosta rebrà diumenge la visita del Vic-Riuprimer B
LOCATION:
METHOD:PUBLISH
X-WR-CALNAME:llagosta@llagosta.cat
X-WR-TIMEZONE:Europe/Madrid
DESCRIPTION:El conjunt amateur del Club Esportiu La Llagosta jugarà diumenge a casa contra el Vic-Riuprimer B. Els llagostencs són cuers amb només 1 punt i la jornada passada van perdre a Llinars per 4 a 0. El Vic-Riuprimer B ve d'empatar a dos a casa contra la Penya Blanc-i-Blava de la Roca i ocupa l'onzena posició amb 17 punts.
URI:https://www.llagosta.cat/actualitat/noticies/el-primer-equip-del-ce-la-llagosta-rebra-diumenge-la-visita-del-vic-riuprimer-b.html
CLASS:PUBLIC
END:VEVENT
END:VCALENDAR
