BEGIN:VCALENDAR
VERSION:2.0
CALSCALE:GREGORIAN
PRODID:-//Diputació de Barcelona//DibaCMS//EN
BEGIN:VEVENT
UID:4678
DTSTAMP:20260422T162132
DTSTART:20120113T000000
DTEND:20130113T000000
SUMMARY:El Centre Cultural acollirà diumenge l'assemblea de la Colla Gegantera de la Llagosta
LOCATION:
METHOD:PUBLISH
X-WR-CALNAME:llagosta@llagosta.cat
X-WR-TIMEZONE:Europe/Madrid
DESCRIPTION:La Colla Gegantera de la Llagosta celebrarà diumenge una assemblea general al Centre Cultural a partir de les onze del matí. Un dels punts destacats de l'ordre del dia és la dissolució de la junta directiva, que ha esgotat els dos anys de mandat, i l'elecció de la nova junta. 
URI:https://www.llagosta.cat/actualitat/noticies/el-centre-cultural-acollira-diumenge-lassemblea-de-la-colla-gegantera-de-la-llagosta.html
CLASS:PUBLIC
END:VEVENT
END:VCALENDAR
