BEGIN:VCALENDAR
VERSION:2.0
CALSCALE:GREGORIAN
PRODID:-//Diputació de Barcelona//DibaCMS//EN
BEGIN:VEVENT
UID:4677
DTSTAMP:20260423T052742
DTSTART:20120112T000000
DTEND:20130112T000000
SUMMARY:Avui surt al carrer el Butlletí d'Informació Municipal del mes de gener
LOCATION:
METHOD:PUBLISH
X-WR-CALNAME:llagosta@llagosta.cat
X-WR-TIMEZONE:Europe/Madrid
DESCRIPTION:L'Ajuntament de la Llagosta distribueix avui el Butlletí d'Informació Municipal del mes de gener. La publicació destacada en primera pàgina la declaració de la masia de Can Baqué com a Bé Cultural d'Interès Local. A la contraportada, es pot veure un resum fotogràfic de les activitats nadalenques.
URI:https://www.llagosta.cat/actualitat/noticies/14-04-2015-avui-surt-al-carrer-el-butlleti-dinformacio-municipal-del-mes-de-gener.html
CLASS:PUBLIC
END:VEVENT
END:VCALENDAR
