BEGIN:VCALENDAR
VERSION:2.0
CALSCALE:GREGORIAN
PRODID:-//Diputació de Barcelona//DibaCMS//EN
BEGIN:VEVENT
UID:4676
DTSTAMP:20260422T013924
DTSTART:20120112T000000
DTEND:20130101T000000
SUMMARY:Demà, comença el curs sobre bonsais que organitza l'entitat Animalets
LOCATION:
METHOD:PUBLISH
X-WR-CALNAME:llagosta@llagosta.cat
X-WR-TIMEZONE:Europe/Madrid
DESCRIPTION:L'entitat local Animalets començarà demà un curs sobre bonsais. Les persones interessades a participar-hi s'han d'adreçar demà mateix a les vuit del vespre a l'acadèmia d'idiomes Llagosta Language Center, que està situada al carrer de Sant Pau.
URI:https://www.llagosta.cat/actualitat/noticies/dema-comenca-el-curs-sobre-bonsais-que-organitza-lentitat-animalets.html
CLASS:PUBLIC
END:VEVENT
END:VCALENDAR
