BEGIN:VCALENDAR
VERSION:2.0
CALSCALE:GREGORIAN
PRODID:-//Diputació de Barcelona//DibaCMS//EN
BEGIN:VEVENT
UID:4675
DTSTAMP:20260422T144229
DTSTART:20120112T000000
DTEND:20130112T000000
SUMMARY:L'equip sènior masculí A de l'EBC es desplaçarà a la pista de la Salle Bonanova
LOCATION:
METHOD:PUBLISH
X-WR-CALNAME:llagosta@llagosta.cat
X-WR-TIMEZONE:Europe/Madrid
DESCRIPTION:El sènior masculí A de l'Esportiu Bàsquet Club de la Llagosta jugarà diumenge a la pista de la Salle Bonanova el primer partit de l'any 2012. Els llagostencs són antepenúltims amb només dues victòries i amb nou derrotes. El seu proper rival ocupa la sisena posició amb set partits guanyats i quatre de perduts.
URI:https://www.llagosta.cat/actualitat/noticies/lequip-senior-masculi-a-de-lebc-es-desplacara-a-la-pista-de-la-salle-bonanova.html
CLASS:PUBLIC
END:VEVENT
END:VCALENDAR
