BEGIN:VCALENDAR
VERSION:2.0
CALSCALE:GREGORIAN
PRODID:-//Diputació de Barcelona//DibaCMS//EN
BEGIN:VEVENT
UID:4674
DTSTAMP:20260423T112430
DTSTART:20120112T000000
DTEND:20130112T000000
SUMMARY:Un total de 162 veïns van lliurar l'any passat el carnet d'ús de la deixalleria
LOCATION:
METHOD:PUBLISH
X-WR-CALNAME:llagosta@llagosta.cat
X-WR-TIMEZONE:Europe/Madrid
DESCRIPTION:Un total de 162 veïns de la Llagosta es beneficiaran aquest any d'una bonificació del 10% en el rebut de les escombraries després d'haver lliurat a l'Ajuntament el carnet d'ús de la deixalleria amb les deu caselles segellades. L'any anterior, van ser 142 els ciutadans beneficiats per aquesta mesura.
URI:https://www.llagosta.cat/actualitat/noticies/un-total-de-162-veins-van-lliurar-lany-passat-el-carnet-dus-de-la-deixalleria.html
CLASS:PUBLIC
END:VEVENT
END:VCALENDAR
