BEGIN:VCALENDAR
VERSION:2.0
CALSCALE:GREGORIAN
PRODID:-//Diputació de Barcelona//DibaCMS//EN
BEGIN:VEVENT
UID:4673
DTSTAMP:20260422T132507
DTSTART:20120112T000000
DTEND:20130113T000000
SUMMARY:Reunió de l'Ajuntament amb la Generalitat sobre la futura estació intermodal de mercaderies
LOCATION:
METHOD:PUBLISH
X-WR-CALNAME:llagosta@llagosta.cat
X-WR-TIMEZONE:Europe/Madrid
DESCRIPTION:L’alcalde de La Llagosta, Alberto López, es va reunir dimarts amb el secretari de Territori i Mobilitat de la Generalitat de Catalunya, Damià Calvet, i el president de Cimalsa, Isidre Lavin, per presentar els plans municipals sobre la futura estació intermodal de mercaderies ferroviàries de l'eix del Mediterrani prevista a la nostra localitat. A la trobada, que es va celebrar a Barcelona, també van assistir els regidors de Territori, Jordi Alonso, i de Treball i Indústria, Adelino Macías.
URI:https://www.llagosta.cat/actualitat/noticies/reunio-de-lajuntament-amb-la-generalitat-sobre-la-futura-estacio-intermodal-de-mercaderies.html
CLASS:PUBLIC
END:VEVENT
END:VCALENDAR
