BEGIN:VCALENDAR
VERSION:2.0
CALSCALE:GREGORIAN
PRODID:-//Diputació de Barcelona//DibaCMS//EN
BEGIN:VEVENT
UID:4672
DTSTAMP:20260423T130922
DTSTART:20120111T000000
DTEND:20130111T000000
SUMMARY:L'Ajuntament amplia el servei d'orientació acadèmica per a joves de 12 a 30 anys
LOCATION:
METHOD:PUBLISH
X-WR-CALNAME:llagosta@llagosta.cat
X-WR-TIMEZONE:Europe/Madrid
DESCRIPTION:El Servei d'Informació Pelegrí de l'Ajuntament de la Llagosta ha ampliat el seu servei d'orientació acadèmica. A partir d'ara s'ofereix una ajuda més personalitzada. El servei d'orientació acadèmica vol ajudar els usuaris a determinar quins estudis poden seguir una vegada finalitzat l'ensenyament obligatori. 
URI:https://www.llagosta.cat/actualitat/noticies/lajuntament-amplia-el-servei-dorientacio-academica-per-a-joves-de-12-a-30-anys.html
CLASS:PUBLIC
END:VEVENT
END:VCALENDAR
