BEGIN:VCALENDAR
VERSION:2.0
CALSCALE:GREGORIAN
PRODID:-//Diputació de Barcelona//DibaCMS//EN
BEGIN:VEVENT
UID:4671
DTSTAMP:20260422T123910
DTSTART:20120111T000000
DTEND:20130111T000000
SUMMARY:Obert el termini per optar a uns ajuts de la Generalitat per a la rehabilitació d'habitatges
LOCATION:
METHOD:PUBLISH
X-WR-CALNAME:llagosta@llagosta.cat
X-WR-TIMEZONE:Europe/Madrid
DESCRIPTION:La Generalitat ha obert el termini de presentació de sol·licituds per optar als ajuts a la rehabilitació energètica de l'envolupant tèrmica d'edificis d'ús residencial i d'habitatges del Pla per al dret a l'habitatge 2009-2012, per a l'any 2012. El període per presentar les sol·licituds finalitza el 31 de gener. 
URI:https://www.llagosta.cat/actualitat/noticies/obert-el-termini-per-optar-a-uns-ajuts-de-la-generalitat-per-a-la-rehabilitacio-dhabitatges.html
CLASS:PUBLIC
END:VEVENT
END:VCALENDAR
