BEGIN:VCALENDAR
VERSION:2.0
CALSCALE:GREGORIAN
PRODID:-//Diputació de Barcelona//DibaCMS//EN
BEGIN:VEVENT
UID:4628
DTSTAMP:20260421T185210
DTSTART:20111223T000000
DTEND:20121223T000000
SUMMARY:El pessebre del Casal d'Avis ha estat el guanyador del concurs d'aquest any
LOCATION:
METHOD:PUBLISH
X-WR-CALNAME:llagosta@llagosta.cat
X-WR-TIMEZONE:Europe/Madrid
DESCRIPTION:El Casal d'Avis ha tornat a guanyar el Concurs de pessebres organitzat per l'Ajuntament de la Llagosta. El premi ha estat de 200 euros. El Casal d'Avis va guanyar també l'edició de 2010.
URI:https://www.llagosta.cat/actualitat/noticies/el-pessebre-del-casal-davis-ha-estat-el-guanyador-del-concurs-daquest-any.html
CLASS:PUBLIC
END:VEVENT
END:VCALENDAR
