BEGIN:VCALENDAR
VERSION:2.0
CALSCALE:GREGORIAN
PRODID:-//Diputació de Barcelona//DibaCMS//EN
BEGIN:VEVENT
UID:4625
DTSTAMP:20260421T202216
DTSTART:20111222T000000
DTEND:20121222T000000
SUMMARY:La Llagosta no resulta agraciada pel sorteig de la loteria de Nadal
LOCATION:
METHOD:PUBLISH
X-WR-CALNAME:llagosta@llagosta.cat
X-WR-TIMEZONE:Europe/Madrid
DESCRIPTION:La sort ha passat, de nou, de llarg per la Llagosta en el sorteig de loteria de Nadal. A la veïna població de Santa Perpètua, ha tocat part d'un cinquè premi amb el número 3643. En concret, 180.000 euros.
URI:https://www.llagosta.cat/actualitat/noticies/la-llagosta-no-resulta-agraciada-pel-sorteig-de-la-loteria-de-nadal.html
CLASS:PUBLIC
END:VEVENT
END:VCALENDAR
