BEGIN:VCALENDAR
VERSION:2.0
CALSCALE:GREGORIAN
PRODID:-//Diputació de Barcelona//DibaCMS//EN
BEGIN:VEVENT
UID:4619
DTSTAMP:20260422T180348
DTSTART:20111221T000000
DTEND:20121221T000000
SUMMARY:L'Ajuntament i ACAPS potenciaran la compra de dipòsits d'aigua per a Daora
LOCATION:
METHOD:PUBLISH
X-WR-CALNAME:llagosta@llagosta.cat
X-WR-TIMEZONE:Europe/Madrid
DESCRIPTION:L'entitat La Llagosta Solidària-ACAPS i l'Ajuntament de la Llagosta impulsaran en el futur el projecte d'implantació de més dipòsits d'aigua a la localitat agermanada de Daora, als campaments de refugiats sahrauís de Tindouf, situats a Algèria. 
URI:https://www.llagosta.cat/actualitat/noticies/lajuntament-i-acaps-potenciaran-la-compra-de-diposits-daigua-per-a-daora.html
CLASS:PUBLIC
END:VEVENT
END:VCALENDAR
