BEGIN:VCALENDAR
VERSION:2.0
CALSCALE:GREGORIAN
PRODID:-//Diputació de Barcelona//DibaCMS//EN
BEGIN:VEVENT
UID:4618
DTSTAMP:20260421T220629
DTSTART:20111221T000000
DTEND:20121221T000000
SUMMARY:El CE Fondistes organitza demà una conferència sobre la prevencíó de lesions
LOCATION:
METHOD:PUBLISH
X-WR-CALNAME:llagosta@llagosta.cat
X-WR-TIMEZONE:Europe/Madrid
DESCRIPTION:El Club Esportiu Fondistes de la Llagosta organitzarà demà una xerrada al Centre Cultural sota el títol de Prevenció de lesions. La conferència, que començarà a les sis de la tarda, anirà a càrrec d'Antoni Morral, fisioterapeuta del centre Salut i Esport de Santa Perpètua i professor de la Universitat Ramon Llull, i d'Inma Pérez, llicenciada en activitats físiques i esportives.
URI:https://www.llagosta.cat/actualitat/noticies/el-ce-fondistes-organitza-dema-una-conferencia-sobre-la-prevencio-de-lesions.html
CLASS:PUBLIC
END:VEVENT
END:VCALENDAR
