BEGIN:VCALENDAR
VERSION:2.0
CALSCALE:GREGORIAN
PRODID:-//Diputació de Barcelona//DibaCMS//EN
BEGIN:VEVENT
UID:4549
DTSTAMP:20260421T135449
DTSTART:20111130T000000
DTEND:20121130T000000
SUMMARY:Luna Sierra, segona en el Campionat Ciutat de Tarragona de taekwondo
LOCATION:
METHOD:PUBLISH
X-WR-CALNAME:llagosta@llagosta.cat
X-WR-TIMEZONE:Europe/Madrid
DESCRIPTION:L'esportista llagostenca Luna Sierra es va classificar en segona posició en el Campionat Ciutat de Tarragona de taewkondo. La competició es va celebrar diumenge al Poliesportiu Murel. Luna Sierra va aconseguir la segona posició després de perdre una final molt disputada. 
URI:https://www.llagosta.cat/actualitat/noticies/luna-sierra-segona-en-el-campionat-ciutat-de-tarragona-de-taekwondo.html
CLASS:PUBLIC
END:VEVENT
END:VCALENDAR
