BEGIN:VCALENDAR
VERSION:2.0
CALSCALE:GREGORIAN
PRODID:-//Diputació de Barcelona//DibaCMS//EN
BEGIN:VEVENT
UID:4288
DTSTAMP:20260421T104652
DTSTART:20110830T000000
DTEND:20120830T000000
SUMMARY:Demà, obres de reparació de la part de la calçada del carrer de Vic, al costat de l'ambulatori
LOCATION:
METHOD:PUBLISH
X-WR-CALNAME:llagosta@llagosta.cat
X-WR-TIMEZONE:Europe/Madrid
DESCRIPTION:Demà, es procedirà a reparar un tram de la calçada del carrer de Vic, situat al costat de l'ambulatori i de la plaça de l'Alcalde Francisco Javier Serrano. Per aquest motiu, no es podrà estacionar en cap de les dues bandes del carrer mentre durin les obres. Sí que es podrà circular per aquest sector, gràcies a l'espai que quedarà lliure en les zones d'aparcament.
URI:https://www.llagosta.cat/actualitat/noticies/dema-obres-de-reparacio-de-la-part-de-la-calcada-del-carrer-de-vic-al-costat-de-lambulatori.html
CLASS:PUBLIC
END:VEVENT
END:VCALENDAR
