BEGIN:VCALENDAR
VERSION:2.0
CALSCALE:GREGORIAN
PRODID:-//Diputació de Barcelona//DibaCMS//EN
BEGIN:VEVENT
UID:4248
DTSTAMP:20260422T105757
DTSTART:20110715T000000
DTEND:20120714T000000
SUMMARY:L'Ajuntament sol·licita subvencions per iniciar un pla de formació ocupacional
LOCATION:
METHOD:PUBLISH
X-WR-CALNAME:llagosta@llagosta.cat
X-WR-TIMEZONE:Europe/Madrid
DESCRIPTION:L'Ajuntament de la nostra localitat ha demanat a la Generalitat una subvenció per posar en marxa el projecte A la Llagosta suem la samarreta i ens mullen contra l'atur. La intenció municipal és que abans de final d'any es puguin iniciar els cursos d'aquest pla de formació ocupacional.

URI:https://www.llagosta.cat/actualitat/noticies/lajuntament-sollicita-subvencions-per-iniciar-un-pla-de-formacio-ocupacional.html
CLASS:PUBLIC
END:VEVENT
END:VCALENDAR
