BEGIN:VCALENDAR
VERSION:2.0
CALSCALE:GREGORIAN
PRODID:-//Diputació de Barcelona//DibaCMS//EN
BEGIN:VEVENT
UID:4226
DTSTAMP:20260422T204333
DTSTART:20110707T000000
DTEND:20120707T000000
SUMMARY:L'Ajuntament vol adjudicar les obres de la plaça de la Concòrdia a finals de mes
LOCATION:
METHOD:PUBLISH
X-WR-CALNAME:llagosta@llagosta.cat
X-WR-TIMEZONE:Europe/Madrid
DESCRIPTION:Quatre empreses opten a fer les obres de la primera fase de la reforma de la plaça de la Concòrdia. Aquesta primera actuació consisteix en el reforç estructural del pàrquing situat sota de la plaça.
URI:https://www.llagosta.cat/actualitat/noticies/lajuntament-vol-adjudicar-les-obres-de-la-placa-de-la-concordia-a-finals-de-mes.html
CLASS:PUBLIC
END:VEVENT
END:VCALENDAR
