BEGIN:VCALENDAR
VERSION:2.0
CALSCALE:GREGORIAN
PRODID:-//Diputació de Barcelona//DibaCMS//EN
BEGIN:VEVENT
UID:4174
DTSTAMP:20260421T192401
DTSTART:20110617T000000
DTEND:20120617T000000
SUMMARY:Aquest cap de setmana se celebra el vuitè Torneig de futbol Joan Gelabert 
LOCATION:
METHOD:PUBLISH
X-WR-CALNAME:llagosta@llagosta.cat
X-WR-TIMEZONE:Europe/Madrid
DESCRIPTION:El Club Esportiu la Llagosta celebrarà aquest cap de setmana el vuitè Torneig Joan Gelabert. Tots els equips de futbol base de l'entitat disputaran el darrer partit d'aquesta temporada.
URI:https://www.llagosta.cat/actualitat/noticies/aquest-cap-de-setmana-se-celebra-el-vuite-torneig-de-futbol-joan-gelabert-.html
CLASS:PUBLIC
END:VEVENT
END:VCALENDAR
