BEGIN:VCALENDAR
VERSION:2.0
CALSCALE:GREGORIAN
PRODID:-//Diputació de Barcelona//DibaCMS//EN
BEGIN:VEVENT
UID:16852
DTSTAMP:20260424T052510
DTSTART:20260423T000000
DTEND:20270423T000000
SUMMARY:L’Ajuntament lliura els premis als millors treballs de recerca de l’INS Marina
LOCATION:
METHOD:PUBLISH
X-WR-CALNAME:llagosta@llagosta.cat
X-WR-TIMEZONE:Europe/Madrid
DESCRIPTION:El Centre Cultural ha acollit aquest migdia el lliurament dels premis als millors treballs de recerca de l’Institut Marina, que atorga l’Ajuntament de la Llagosta. En Humanístic Social, la guanyadora ha estat Lucía Valero Sánchez, per Discurs esportiu i gènere en l’era digital. En Científic Tecnològic, el premi ha estat per a Alicia García López, per Disseny i construcció d’un violí elèctric. El Premi Especial La Llagosta ha estat per a David Corvillo Ruiz, per Una mirada a la Llagosta: del passat al present.

URI:https://www.llagosta.cat/actualitat/noticies/lajuntament-lliura-els-premis-als-millors-treballs-de-recerca-de-lins-marina.html
CLASS:PUBLIC
END:VEVENT
END:VCALENDAR
