BEGIN:VCALENDAR
VERSION:2.0
CALSCALE:GREGORIAN
PRODID:-//Diputació de Barcelona//DibaCMS//EN
BEGIN:VEVENT
UID:16851
DTSTAMP:20260423T110506
DTSTART:20260422T000000
DTEND:20270422T000000
SUMMARY:Tot preparat per celebrar demà la Diada de Sant Jordi a la Llagosta
LOCATION:
METHOD:PUBLISH
X-WR-CALNAME:llagosta@llagosta.cat
X-WR-TIMEZONE:Europe/Madrid
DESCRIPTION:La plaça d’Antoni Baqué serà demà l’eix central de la celebració de la Diada de Sant Jordi a la nostra localitat. Entre les 9 i les 20 hores, diverses entitats locals instal·laran en aquest espai les tradicionals parades de venda de roses i llibres.

URI:https://www.llagosta.cat/actualitat/noticies/tot-preparat-per-celebrar-dema-la-diada-de-sant-jordi-a-la-llagosta.html
CLASS:PUBLIC
END:VEVENT
END:VCALENDAR
