BEGIN:VCALENDAR
VERSION:2.0
CALSCALE:GREGORIAN
PRODID:-//Diputació de Barcelona//DibaCMS//EN
BEGIN:VEVENT
UID:16849
DTSTAMP:20260423T142437
DTSTART:20260421T000000
DTEND:20270421T000000
SUMMARY:L’Ajuntament de la Llagosta ha acompanyat durant més de dos anys un cas de vulnerabilitat social amb intervenció continuada
LOCATION:
METHOD:PUBLISH
X-WR-CALNAME:llagosta@llagosta.cat
X-WR-TIMEZONE:Europe/Madrid
DESCRIPTION:L’Ajuntament de la Llagosta vol traslladar a la ciutadania informació rigorosa i transparent en relació amb el procediment de desnonament que ha generat preocupació en els darrers dies.
Es tracta d’un procediment entre particulars, en què l’Ajuntament no és part, i en el qual l’administració local ha intervingut exclusivament des de l’àmbit social, com fa amb qualsevol veí o veïna en situació de vulnerabilitat

URI:https://www.llagosta.cat/actualitat/noticies/lajuntament-de-la-llagosta-ha-acompanyat-durant-mes-de-dos-anys-un-cas-de-vulnerabilitat-social-amb-intervencio-continuada.html
CLASS:PUBLIC
END:VEVENT
END:VCALENDAR
