BEGIN:VCALENDAR
VERSION:2.0
CALSCALE:GREGORIAN
PRODID:-//Diputació de Barcelona//DibaCMS//EN
BEGIN:VEVENT
UID:16845
DTSTAMP:20260423T125258
DTSTART:20260416T150000
DTEND:20260430T210000
SUMMARY:Exposició.  Quan parles fas màgia
LOCATION:Carrer de Jaume I, 7-9  08120 La Llagosta
METHOD:PUBLISH
X-WR-CALNAME:llagosta@llagosta.cat
X-WR-TIMEZONE:Europe/Madrid
DESCRIPTION:
URI:https://www.llagosta.cat/participacio/agenda-i-activitats-de-les-associacions/16845-exposicio-quan-parles-fas-magia.html
CLASS:PUBLIC
END:VEVENT
END:VCALENDAR
