BEGIN:VCALENDAR
VERSION:2.0
CALSCALE:GREGORIAN
PRODID:-//Diputació de Barcelona//DibaCMS//EN
BEGIN:VEVENT
UID:16844
DTSTAMP:20260423T124940
DTSTART:20260422T090000
DTEND:20260426T190000
SUMMARY:Sant Jordi. Deixallibres
LOCATION:Carrer de Gaudí cantonada amb el carrer de Vic 08120 La Llagosta
METHOD:PUBLISH
X-WR-CALNAME:llagosta@llagosta.cat
X-WR-TIMEZONE:Europe/Madrid
DESCRIPTION:
URI:https://www.llagosta.cat/participacio/agenda-i-activitats-de-les-associacions/16844-sant-jordi-deixallibres.html
CLASS:PUBLIC
END:VEVENT
END:VCALENDAR
