BEGIN:VCALENDAR
VERSION:2.0
CALSCALE:GREGORIAN
PRODID:-//Diputació de Barcelona//DibaCMS//EN
BEGIN:VEVENT
UID:16842
DTSTAMP:20260421T151704
DTSTART:20260421T000000
DTEND:20270421T000000
SUMMARY:Inscripcions obertes per a la 37a Cursa Popular, que se celebrarà el 27 de setembre
LOCATION:
METHOD:PUBLISH
X-WR-CALNAME:llagosta@llagosta.cat
X-WR-TIMEZONE:Europe/Madrid
DESCRIPTION:L’Ajuntament de la Llagosta ha obert el període d’inscripcions de la 37a edició de la Cursa Popular de la Llagosta. La prova atlètica se celebrarà el 27 de setembre amb les distàncies de 5 i 10 quilòmetres i les curses infantils. Ja es poden fer les inscripcions mitjançant el portal xipgroc.cat.

URI:https://www.llagosta.cat/actualitat/noticies/inscripcions-obertes-per-a-la-37a-cursa-popular-que-se-celebrara-el-27-de-setembre.html
CLASS:PUBLIC
END:VEVENT
END:VCALENDAR
