BEGIN:VCALENDAR
VERSION:2.0
CALSCALE:GREGORIAN
PRODID:-//Diputació de Barcelona//DibaCMS//EN
BEGIN:VEVENT
UID:16839
DTSTAMP:20260422T200316
DTSTART:20260420T000000
DTEND:20270420T000000
SUMMARY:Ja es pot participar en el Concurs de cartells de la Festa Major del 2026
LOCATION:
METHOD:PUBLISH
X-WR-CALNAME:llagosta@llagosta.cat
X-WR-TIMEZONE:Europe/Madrid
DESCRIPTION:Des d’avui i fins al 22 de maig, es pot participar en el Concurs de cartells de la Festa Major del 2026. La participació és oberta tant a professionals com a artistes novells majors de 16 anys. Cada persona pot presentar a l’Oficina d’Atenció a la Ciutadania un màxim de dos dissenys, que hauran de ser originals i inèdits i no vulnerar drets de propietat intel·lectual de tercers. Cal incloure-hi les frases Festa Major de la Llagosta 2026 i Del 10 al 13 de setembre. A més, cal preveure la inserció de l’escut de l’Ajuntament de la Llagosta. El disseny del cartell haurà d’incloure algun motiu al·lusiu a la Llagosta.

URI:https://www.llagosta.cat/actualitat/noticies/ja-es-pot-participar-en-el-concurs-de-cartells-de-la-festa-major-del-2026.html
CLASS:PUBLIC
END:VEVENT
END:VCALENDAR
