BEGIN:VCALENDAR
VERSION:2.0
CALSCALE:GREGORIAN
PRODID:-//Diputació de Barcelona//DibaCMS//EN
BEGIN:VEVENT
UID:16744
DTSTAMP:20260423T110652
DTSTART:20260306T130000
DTEND:20270306T000000
SUMMARY:L’Ajuntament i la Diputació posen en marxa una campanya contra l’edatisme
LOCATION:
METHOD:PUBLISH
X-WR-CALNAME:llagosta@llagosta.cat
X-WR-TIMEZONE:Europe/Madrid
DESCRIPTION:L’Ajuntament de la Llagosta i la Diputació de Barcelona han iniciat una campanya a la nostra localitat contra l’edatisme, que és una forma de discriminació silenciosa però profundament arrelada de la gent gran, que es basa en prejudicis i simplificacions que ignoren la diversitat d’experiències i les maneres de viure l’envelliment, imposant un criteri únic i excloent. L’edatisme es tradueix en una vulneració de drets i generalment s’expressa en forma d’infantilització, exclusió, despersonalització i deshumanització de la gent gran.

URI:https://www.llagosta.cat/actualitat/noticies/lajuntament-i-la-diputacio-posen-en-marxa-una-campanya-contra-ledatisme.html
CLASS:PUBLIC
END:VEVENT
END:VCALENDAR
