BEGIN:VCALENDAR
VERSION:2.0
CALSCALE:GREGORIAN
PRODID:-//Diputació de Barcelona//DibaCMS//EN
BEGIN:VEVENT
UID:16743
DTSTAMP:20260423T105211
DTSTART:20260306T000000
DTEND:20270306T000000
SUMMARY:Comença un nou curs sobre formació digital per a la gent gran
LOCATION:
METHOD:PUBLISH
X-WR-CALNAME:llagosta@llagosta.cat
X-WR-TIMEZONE:Europe/Madrid
DESCRIPTION:Avui, ha començat a la Llagosta un nou curs sobre formació digital per a gent gran. L'activitat està promoguda per la Generalitat i compta amb la col·laboració de l'Ajuntament. 

URI:https://www.llagosta.cat/actualitat/noticies/comenca-un-nou-curs-sobre-formacio-digital-per-a-la-gent-gran.html
CLASS:PUBLIC
END:VEVENT
END:VCALENDAR
