BEGIN:VCALENDAR
VERSION:2.0
CALSCALE:GREGORIAN
PRODID:-//Diputació de Barcelona//DibaCMS//EN
BEGIN:VEVENT
UID:16741
DTSTAMP:20260420T054400
DTSTART:20260305T160000
DTEND:20270305T000000
SUMMARY:L’accés a la Llagosta per la C-17 es tallarà a partir de dilluns per obres
LOCATION:
METHOD:PUBLISH
X-WR-CALNAME:llagosta@llagosta.cat
X-WR-TIMEZONE:Europe/Madrid
DESCRIPTION:L’accés a la C-17 per la Llagosta, en sentit Mollet, es tallarà a partir del pròxim dilluns, 9 de març, per les obres d’un nou col·lector per a l’Estació intermodal. Per aquest motiu el trànsit de vehicles quedarà interromput des de la rotonda del carrer de la Riera Seca fins a l’entrada de l’aparcament de camions. La previsió del temps de durada de les obres és d’una setmana.

URI:https://www.llagosta.cat/actualitat/noticies/lacces-a-la-llagosta-per-la-c-17-es-tallara-a-partir-de-dilluns-per-obres.html
CLASS:PUBLIC
END:VEVENT
END:VCALENDAR
