BEGIN:VCALENDAR
VERSION:2.0
CALSCALE:GREGORIAN
PRODID:-//Diputació de Barcelona//DibaCMS//EN
BEGIN:VEVENT
UID:16724
DTSTAMP:20260420T162447
DTSTART:20260321T180000
DTEND:20260322T170000
SUMMARY:Sant Josep. Teatre. Muñeco de barrio
LOCATION:Plaça de l'Alcalde Sisó Pons, 1 08120 La Llagosta
METHOD:PUBLISH
X-WR-CALNAME:llagosta@llagosta.cat
X-WR-TIMEZONE:Europe/Madrid
DESCRIPTION:
URI:https://www.llagosta.cat/participacio/agenda-i-activitats-de-les-associacions/sant-josep-teatre-muneco-de-barrio.html
CLASS:PUBLIC
END:VEVENT
END:VCALENDAR
