BEGIN:VCALENDAR
VERSION:2.0
CALSCALE:GREGORIAN
PRODID:-//Diputació de Barcelona//DibaCMS//EN
BEGIN:VEVENT
UID:16705
DTSTAMP:20260424T133813
DTSTART:20260314T163000
DTEND:20260314T203000
SUMMARY:Sant Josep. 15a Trobada Gegantera de la Llagosta
LOCATION:
METHOD:PUBLISH
X-WR-CALNAME:llagosta@llagosta.cat
X-WR-TIMEZONE:Europe/Madrid
DESCRIPTION:
URI:https://www.llagosta.cat/participacio/agenda-i-activitats-de-les-associacions/sant-josep-15a-trobada-gegantera-de-la-llagosta.html
CLASS:PUBLIC
END:VEVENT
END:VCALENDAR
