BEGIN:VCALENDAR
VERSION:2.0
CALSCALE:GREGORIAN
PRODID:-//Diputació de Barcelona//DibaCMS//EN
BEGIN:VEVENT
UID:16591
DTSTAMP:20260419T223804
DTSTART:20260109T000000
DTEND:20270109T000000
SUMMARY:La Biblioteca lliura les tres paneres culturals
LOCATION:
METHOD:PUBLISH
X-WR-CALNAME:llagosta@llagosta.cat
X-WR-TIMEZONE:Europe/Madrid
DESCRIPTION:La Biblioteca de la Llagosta ha entregat les tres paneres culturals. L’acte de lliurament va tenir lloc ahir dijous en la mateixa biblioteca, en la primera planta de Can Pelegrí, i va comptar amb el regidor d’Arts de l’Ajuntament, Fran Ruiz, i el director de la Biblioteca, Ángel Fernández.

URI:https://www.llagosta.cat/actualitat/noticies/16591-la-biblioteca-lliura-les-tres-paneres-culturals.html
CLASS:PUBLIC
END:VEVENT
END:VCALENDAR
