BEGIN:VCALENDAR
VERSION:2.0
CALSCALE:GREGORIAN
PRODID:-//Diputació de Barcelona//DibaCMS//EN
BEGIN:VEVENT
UID:16588
DTSTAMP:20260419T224054
DTSTART:20260109T000000
DTEND:20270109T000000
SUMMARY:Convocat el 8è Concurs de Microrelats Dia internacional de les dones
LOCATION:
METHOD:PUBLISH
X-WR-CALNAME:llagosta@llagosta.cat
X-WR-TIMEZONE:Europe/Madrid
DESCRIPTION:Les regidories d’Igualtat, Cultura i Arts de l’Ajuntament de la Llagosta, la Biblioteca Municipal de la Llagosta i l’entitat Resistència Literària organitzen el vuitè Concurs de microrelats del Dia internacional de les dones. La temàtica d’aquesta edició és La vida de les dones a la Llagosta durant els darrers 90 anys. Al certamen pot participar des d’avui fins al 22 de febrer qualsevol persona major de 16 anys.

URI:https://www.llagosta.cat/municipi-per-temes/igualtat-i-lgtbiq/noticies-igualtat/convocat-el-8e-concurs-de-microrelats-dia-internacional-de-les-dones.html
CLASS:PUBLIC
END:VEVENT
END:VCALENDAR
