BEGIN:VCALENDAR
VERSION:2.0
CALSCALE:GREGORIAN
PRODID:-//Diputació de Barcelona//DibaCMS//EN
BEGIN:VEVENT
UID:16483
DTSTAMP:20260419T223853
DTSTART:20251125T000000
DTEND:20261125T000000
SUMMARY:El Centre d'Arts Municipal celebra el Concert de Santa Cecília
LOCATION:
METHOD:PUBLISH
X-WR-CALNAME:llagosta@llagosta.cat
X-WR-TIMEZONE:Europe/Madrid
DESCRIPTION:El Centre d'Arts Municipal (CAM) va celebrar el passat divendres el Concert de Santa Cecília, que va tenir lloc al Centre Cultural. Un grup d'alumnes de cant de l'escola municipal van interpretar una desena de cançons, que han assajat durant el primer tram del curs 2025-2026.

URI:https://www.llagosta.cat/actualitat/noticies/el-centre-darts-municipal-celebra-el-concert-de-santa-cecilia.html
CLASS:PUBLIC
END:VEVENT
END:VCALENDAR
