BEGIN:VCALENDAR
VERSION:2.0
CALSCALE:GREGORIAN
PRODID:-//Diputació de Barcelona//DibaCMS//EN
BEGIN:VEVENT
UID:16469
DTSTAMP:20260419T224122
DTSTART:20251118T080000
DTEND:20261118T000000
SUMMARY:El Centre d’Arts Municipal protagonitzarà divendres un concert benèfic
LOCATION:
METHOD:PUBLISH
X-WR-CALNAME:llagosta@llagosta.cat
X-WR-TIMEZONE:Europe/Madrid
DESCRIPTION:El Centre d’Arts Municipal (CAM) de la Llagosta protagonitzarà divendres el Concert de Santa Cecília, patrona dels músics. L’actuació tindrà lloc a partir de les 20 hores al Centre Cultural. La recaptació es destinarà a La Llagosta contra el càncer.

URI:https://www.llagosta.cat/actualitat/noticies/el-centre-darts-municipal-protagonitzara-divendres-un-concert-benefic.html
CLASS:PUBLIC
END:VEVENT
END:VCALENDAR
