BEGIN:VCALENDAR
VERSION:2.0
CALSCALE:GREGORIAN
PRODID:-//Diputació de Barcelona//DibaCMS//EN
BEGIN:VEVENT
UID:16378
DTSTAMP:20260419T223947
DTSTART:20251009T000000
DTEND:20261009T000000
SUMMARY:Inscripcions obertes per a la 2a edició del Truc o Tracte
LOCATION:
METHOD:PUBLISH
X-WR-CALNAME:llagosta@llagosta.cat
X-WR-TIMEZONE:Europe/Madrid
DESCRIPTION:L’Ajuntament de la Llagosta organitza per segon any una nova edició del Truc o Tracte, una activitat adreçada als infants del municipi. L'activitat, inclosa al programa Castanyada 2025, tindrà lloc el 31 d’octubre, entre les 18 i les 22 hores.

URI:https://www.llagosta.cat/actualitat/noticies/inscripcions-obertes-per-a-la-2a-edicio-del-truc-o-tracte.html
CLASS:PUBLIC
END:VEVENT
END:VCALENDAR
