BEGIN:VCALENDAR
VERSION:2.0
CALSCALE:GREGORIAN
PRODID:-//Diputació de Barcelona//DibaCMS//EN
BEGIN:VEVENT
UID:16341
DTSTAMP:20260420T073720
DTSTART:20250923T000000
DTEND:20260923T000000
SUMMARY:La Llagosta optarà al Pla de Barris per millorar el sector de la Vecasa i la Concòrdia
LOCATION:
METHOD:PUBLISH
X-WR-CALNAME:llagosta@llagosta.cat
X-WR-TIMEZONE:Europe/Madrid
DESCRIPTION:L’Ajuntament de la Llagosta optarà a la convocatòria d’ajuts del Pla de Barris i Viles que impulsa la Generalitat de Catalunya. Concretament, es vol millorar el sector de la Vecasa i la Concòrdia, que engloba les places de la Concòrdia, de Catalunya i de Pere Quart, i els carrers de Pablo Picasso, del Progrés, de la Constitució i del Pintor Fortuny.

URI:https://www.llagosta.cat/actualitat/noticies/la-llagosta-optara-al-pla-de-barris-per-millorar-el-sector-de-la-vecasa-i-la-concordia.html
CLASS:PUBLIC
END:VEVENT
END:VCALENDAR
