BEGIN:VCALENDAR
VERSION:2.0
CALSCALE:GREGORIAN
PRODID:-//Diputació de Barcelona//DibaCMS//EN
BEGIN:VEVENT
UID:16292
DTSTAMP:20260420T004051
DTSTART:20250903T000000
DTEND:20260903T000000
SUMMARY:Ja hem portat el programa de Festa Major a les llars de la Llagosta
LOCATION:
METHOD:PUBLISH
X-WR-CALNAME:llagosta@llagosta.cat
X-WR-TIMEZONE:Europe/Madrid
DESCRIPTION:El programa de Festa Major ja ha arribat a les busties de les cases de la nostra localitat. Les activitats començaran el 10 de setembre i acabaran el diumenge 14. Els veïns i veïnes de la nostra localitat ja tenen a les seves mans les més de 50 propostes que es faran durant els cinc dies de festa.

URI:https://www.llagosta.cat/actualitat/noticies/ja-hem-portat-el-programa-de-festa-major-a-les-llars-de-la-llagosta.html
CLASS:PUBLIC
END:VEVENT
END:VCALENDAR
