BEGIN:VCALENDAR
VERSION:2.0
CALSCALE:GREGORIAN
PRODID:-//Diputació de Barcelona//DibaCMS//EN
BEGIN:VEVENT
UID:16217
DTSTAMP:20260419T224035
DTSTART:20250623T000000
DTEND:20260623T000000
SUMMARY:L'Escola Municipal de Música finalitza el curs amb el nou festival Fes el Fest!
LOCATION:
METHOD:PUBLISH
X-WR-CALNAME:llagosta@llagosta.cat
X-WR-TIMEZONE:Europe/Madrid
DESCRIPTION:La plaça d’Antoni Baqué es va omplir dissabte de música durant tot el dia. L’Escola Municipal de Música ha acabat el curs amb la celebració de la primera edició de Fes el Fest! Una jornada d’intercanvi d’escoles de música que ha nascut amb voluntat de continuar els pròxims anys.

URI:https://www.llagosta.cat/actualitat/noticies/lescola-municipal-de-musica-finalitza-el-curs-amb-el-nou-festival-fes-el-fest.html
CLASS:PUBLIC
END:VEVENT
END:VCALENDAR
