BEGIN:VCALENDAR
VERSION:2.0
CALSCALE:GREGORIAN
PRODID:-//Diputació de Barcelona//DibaCMS//EN
BEGIN:VEVENT
UID:16145
DTSTAMP:20260419T223842
DTSTART:20250530T170000
DTEND:20260530T000000
SUMMARY:Escollits els finalistes del Concurs de cartells de la Festa Major del 2025
LOCATION:
METHOD:PUBLISH
X-WR-CALNAME:llagosta@llagosta.cat
X-WR-TIMEZONE:Europe/Madrid
DESCRIPTION:El jurat del Concurs de cartells de la Festa Major de la Llagosta 2025 ha escollit els tres finalistes del certamen. Avui divendres, a la Sala de plens, el jurat ha hagut de decidir d’entre un total de 25 propostes presentades. Els tres cartells finalistes han estat realitzats amb els pseudònims Culture Club, Miu Beverly i Ariann. El cartell guanyador serà la imatge gràfica de la Festa Major del 2025.

URI:https://www.llagosta.cat/actualitat/noticies/escollits-els-finalistes-del-concurs-de-cartells-de-la-festa-major-del-2025.html
CLASS:PUBLIC
END:VEVENT
END:VCALENDAR
