BEGIN:VCALENDAR
VERSION:2.0
CALSCALE:GREGORIAN
PRODID:-//Diputació de Barcelona//DibaCMS//EN
BEGIN:VEVENT
UID:16099
DTSTAMP:20260421T101206
DTSTART:20250519T000000
DTEND:20260519T000000
SUMMARY:L’Ajuntament redacta el Pla Local d’Habitatge 2025-2030
LOCATION:
METHOD:PUBLISH
X-WR-CALNAME:llagosta@llagosta.cat
X-WR-TIMEZONE:Europe/Madrid
DESCRIPTION:L’Ajuntament de la Llagosta està elaborant actualment, amb la col·laboració de la Diputació de Barcelona, el Pla Local d’Habitatge 2025-2030. Es tracta d’un document tècnic que defineix les estratègies i propostes a desenvolupar per fomentar el dret de la ciutadania de la Llagosta a gaudir d’un habitatge digne en condicions assequibles.

URI:https://www.llagosta.cat/actualitat/noticies/16099-lajuntament-redacta-el-pla-local-dhabitatge-2025-2030.html
CLASS:PUBLIC
END:VEVENT
END:VCALENDAR
