BEGIN:VCALENDAR
VERSION:2.0
CALSCALE:GREGORIAN
PRODID:-//Diputació de Barcelona//DibaCMS//EN
BEGIN:VEVENT
UID:16088
DTSTAMP:20260420T003700
DTSTART:20250514T000000
DTEND:20260514T000000
SUMMARY:La Fira de Sant Ponç se celebrarà el cap de setmana
LOCATION:
METHOD:PUBLISH
X-WR-CALNAME:llagosta@llagosta.cat
X-WR-TIMEZONE:Europe/Madrid
DESCRIPTION:Torna la Fira de Sant Ponç a la Llagosta. Entre divendres i diumenge, el passeig de l’avinguda de l’Onze de Setembre acollirà una trentena de parades d’artesans i venedors de productes tradicionals. A més, hi haurà atraccions ecològiques i inflables. També, hi haurà algunes parades d’entitats locals.

URI:https://www.llagosta.cat/actualitat/noticies/la-fira-de-sant-ponc-se-celebrara-el-cap-de-setmana.html
CLASS:PUBLIC
END:VEVENT
END:VCALENDAR
