BEGIN:VCALENDAR
VERSION:2.0
CALSCALE:GREGORIAN
PRODID:-//Diputació de Barcelona//DibaCMS//EN
BEGIN:VEVENT
UID:16028
DTSTAMP:20260419T223700
DTSTART:20250423T140000
DTEND:20260423T000000
SUMMARY:Lliurats els premis als millors treballs de recerca de l’INS Marina
LOCATION:
METHOD:PUBLISH
X-WR-CALNAME:llagosta@llagosta.cat
X-WR-TIMEZONE:Europe/Madrid
DESCRIPTION:El Centre Cultural ha acollit aquest migdia el lliurament dels premis als millors treballs de recerca de l’Institut Marina, que atorga l’Ajuntament de la Llagosta. En Humanístic Social, el guanyador ha estat Jordi Navarro, per Unveiling the Secrets of Taylor Swift’s Songwriting. En Científic Tecnològic, el premi ha estat per a Víctor Domínguez, per Podem imprimir objectes 3D a partir d’ampolles de plàstic? El Premi Especial La Llagosta ha estat per a Júlia Mediavilla, per Petjades.

URI:https://www.llagosta.cat/actualitat/noticies/16028-lliurats-els-premis-als-millors-treballs-de-recerca-de-lins-marina.html
CLASS:PUBLIC
END:VEVENT
END:VCALENDAR
