BEGIN:VCALENDAR
VERSION:2.0
CALSCALE:GREGORIAN
PRODID:-//Diputació de Barcelona//DibaCMS//EN
BEGIN:VEVENT
UID:15581
DTSTAMP:20260421T113218
DTSTART:20241123T110000
DTEND:20241123T110000
SUMMARY:25N 2024. Espai Queer: Odi i LGTBIQ+fòbia a les xarxes socials
LOCATION:Carrer de Jaume I, 7-9  08120 La Llagosta
METHOD:PUBLISH
X-WR-CALNAME:llagosta@llagosta.cat
X-WR-TIMEZONE:Europe/Madrid
DESCRIPTION:
URI:https://www.llagosta.cat/participacio/agenda-i-activitats-de-les-associacions/25n-2024-espai-queer-odi-i-lgtbiqfobia-a-les-xarxes-socials.html
CLASS:PUBLIC
END:VEVENT
END:VCALENDAR
