BEGIN:VCALENDAR
VERSION:2.0
CALSCALE:GREGORIAN
PRODID:-//Diputació de Barcelona//DibaCMS//EN
BEGIN:VEVENT
UID:15554
DTSTAMP:20260425T014143
DTSTART:20241114T190000
DTEND:20241114T190000
SUMMARY:El Club del Llibre amb Ramon Gener
LOCATION:Teatre de la Garriga El Patronat 
METHOD:PUBLISH
X-WR-CALNAME:llagosta@llagosta.cat
X-WR-TIMEZONE:Europe/Madrid
DESCRIPTION:
URI:https://www.llagosta.cat/participacio/agenda-i-activitats-de-les-associacions/el-club-del-llibre-amb-ramon-gener.html
CLASS:PUBLIC
END:VEVENT
END:VCALENDAR
