BEGIN:VCALENDAR
VERSION:2.0
CALSCALE:GREGORIAN
PRODID:-//Diputació de Barcelona//DibaCMS//EN
BEGIN:VEVENT
UID:15517
DTSTAMP:20260422T094410
DTSTART:20241017T103000
DTEND:20241017T103000
SUMMARY:Xerrada sobre maltractament a la gent gran
LOCATION:Avinguda del Primer de maig, 34 - 36 08120 La Llagosta
METHOD:PUBLISH
X-WR-CALNAME:llagosta@llagosta.cat
X-WR-TIMEZONE:Europe/Madrid
DESCRIPTION:
URI:https://www.llagosta.cat/participacio/agenda-i-activitats-de-les-associacions/xerrada-sobre-maltractament-a-la-gent-gran.html
CLASS:PUBLIC
END:VEVENT
END:VCALENDAR
