BEGIN:VCALENDAR
VERSION:2.0
CALSCALE:GREGORIAN
PRODID:-//Diputació de Barcelona//DibaCMS//EN
BEGIN:VEVENT
UID:15242
DTSTAMP:20260420T024421
DTSTART:20240528T183000
DTEND:20240528T183000
SUMMARY:Setmana sense fum. Xerrada
LOCATION:Carrer de Vic, s/n 08120 La Llagosta
METHOD:PUBLISH
X-WR-CALNAME:llagosta@llagosta.cat
X-WR-TIMEZONE:Europe/Madrid
DESCRIPTION:
URI:https://www.llagosta.cat/participacio/agenda-i-activitats-de-les-associacions/setmana-sense-fum-xerrada.html
CLASS:PUBLIC
END:VEVENT
END:VCALENDAR
