BEGIN:VCALENDAR
VERSION:2.0
CALSCALE:GREGORIAN
PRODID:-//Diputació de Barcelona//DibaCMS//EN
BEGIN:VEVENT
UID:15199
DTSTAMP:20260425T032511
DTSTART:20240518T100000
DTEND:20240518T133000
SUMMARY:Campionat 30 anys de judo a la SAFA
LOCATION:Carrer de Joaquim Blume, s/n 08120 La Llagosta
METHOD:PUBLISH
X-WR-CALNAME:llagosta@llagosta.cat
X-WR-TIMEZONE:Europe/Madrid
DESCRIPTION:
URI:https://www.llagosta.cat/participacio/agenda-i-activitats-de-les-associacions/campionat-30-anys-de-judo-a-la-safa.html
CLASS:PUBLIC
END:VEVENT
END:VCALENDAR
