BEGIN:VCALENDAR
VERSION:2.0
CALSCALE:GREGORIAN
PRODID:-//Diputació de Barcelona//DibaCMS//EN
BEGIN:VEVENT
UID:15159
DTSTAMP:20260423T022251
DTSTART:20240428T170000
DTEND:20240428T190000
SUMMARY:Teatre. La cena
LOCATION:Plaça de l'Alcalde Sisó Pons, 1 08120 La Llagosta
METHOD:PUBLISH
X-WR-CALNAME:llagosta@llagosta.cat
X-WR-TIMEZONE:Europe/Madrid
DESCRIPTION:
URI:https://www.llagosta.cat/participacio/agenda-i-activitats-de-les-associacions/teatre-la-cena.html
CLASS:PUBLIC
END:VEVENT
END:VCALENDAR
