BEGIN:VCALENDAR
VERSION:2.0
CALSCALE:GREGORIAN
PRODID:-//Diputació de Barcelona//DibaCMS//EN
BEGIN:VEVENT
UID:14565
DTSTAMP:20260421T033223
DTSTART:20230924T093000
DTEND:20230924T093000
SUMMARY:34a Cursa Popular Els 10 de la Llagosta
LOCATION:Sortida des del carrer de l'Estació. 
METHOD:PUBLISH
X-WR-CALNAME:llagosta@llagosta.cat
X-WR-TIMEZONE:Europe/Madrid
DESCRIPTION:
URI:https://www.llagosta.cat/participacio/agenda-i-activitats-de-les-associacions/34a-cursa-popular-els-10-de-la-llagosta.html
CLASS:PUBLIC
END:VEVENT
END:VCALENDAR
