BEGIN:VCALENDAR
VERSION:2.0
CALSCALE:GREGORIAN
PRODID:-//Diputació de Barcelona//DibaCMS//EN
BEGIN:VEVENT
UID:13864
DTSTAMP:20260419T221951
DTSTART:20221026T190000
DTEND:20221026T190000
SUMMARY:Presentació del llibre La vida de Eva
LOCATION:Carrer de Jaume I, 7-9  08120 La Llagosta
METHOD:PUBLISH
X-WR-CALNAME:llagosta@llagosta.cat
X-WR-TIMEZONE:Europe/Madrid
DESCRIPTION:
URI:https://www.llagosta.cat/participacio/agenda-i-activitats-de-les-associacions/presentacio-del-llibre-la-vida-de-eva.html
CLASS:PUBLIC
END:VEVENT
END:VCALENDAR
